BEGIN:VCALENDAR
VERSION:2.0
PRODID:-//Snow Creek Ski Patrol - ECPv6.15.18//NONSGML v1.0//EN
CALSCALE:GREGORIAN
METHOD:PUBLISH
X-ORIGINAL-URL:https://www.snowcreekskipatrol.com
X-WR-CALDESC:Events for Snow Creek Ski Patrol
REFRESH-INTERVAL;VALUE=DURATION:PT1H
X-Robots-Tag:noindex
X-PUBLISHED-TTL:PT1H
BEGIN:VTIMEZONE
TZID:America/Chicago
BEGIN:DAYLIGHT
TZOFFSETFROM:-0600
TZOFFSETTO:-0500
TZNAME:CDT
DTSTART:20230312T080000
END:DAYLIGHT
BEGIN:STANDARD
TZOFFSETFROM:-0500
TZOFFSETTO:-0600
TZNAME:CST
DTSTART:20231105T070000
END:STANDARD
BEGIN:DAYLIGHT
TZOFFSETFROM:-0600
TZOFFSETTO:-0500
TZNAME:CDT
DTSTART:20240310T080000
END:DAYLIGHT
BEGIN:STANDARD
TZOFFSETFROM:-0500
TZOFFSETTO:-0600
TZNAME:CST
DTSTART:20241103T070000
END:STANDARD
BEGIN:DAYLIGHT
TZOFFSETFROM:-0600
TZOFFSETTO:-0500
TZNAME:CDT
DTSTART:20250309T080000
END:DAYLIGHT
BEGIN:STANDARD
TZOFFSETFROM:-0500
TZOFFSETTO:-0600
TZNAME:CST
DTSTART:20251102T070000
END:STANDARD
END:VTIMEZONE
BEGIN:VEVENT
DTSTART;TZID=America/Chicago:20241015T080000
DTEND;TZID=America/Chicago:20241015T170000
DTSTAMP:20260422T231823
CREATED:20240508T170726Z
LAST-MODIFIED:20250125T183559Z
UID:880-1728979200-1729011600@www.snowcreekskipatrol.com
SUMMARY:New Patroller Signup Deadline for 2024-2025 Season
DESCRIPTION:This is the deadline for Individuals who did not patrol at Snow Creek during the 2023-2024 season to receive an Epic Pass for the 2024-2025 Season. \nThis includes our 2025 Toboggan Training class. \nTo sign up \n\n	Notice: JavaScript is required for this content.
URL:https://www.snowcreekskipatrol.com/event/new-patroller-signup-deadline-for-2024-2025-season/
LOCATION:MO
CATEGORIES:Candidate Calendar,Main Calendar
ATTACH;FMTTYPE=image/jpeg:https://www.snowcreekskipatrol.com/wp-content/uploads/2024/11/White-Cross.jpg
END:VEVENT
END:VCALENDAR