BEGIN:VCALENDAR
VERSION:2.0
PRODID:-//Snow Creek Ski Patrol - ECPv6.15.18//NONSGML v1.0//EN
CALSCALE:GREGORIAN
METHOD:PUBLISH
X-WR-CALNAME:Snow Creek Ski Patrol
X-ORIGINAL-URL:https://www.snowcreekskipatrol.com
X-WR-CALDESC:Events for Snow Creek Ski Patrol
REFRESH-INTERVAL;VALUE=DURATION:PT1H
X-Robots-Tag:noindex
X-PUBLISHED-TTL:PT1H
BEGIN:VTIMEZONE
TZID:America/Chicago
BEGIN:DAYLIGHT
TZOFFSETFROM:-0600
TZOFFSETTO:-0500
TZNAME:CDT
DTSTART:20230312T080000
END:DAYLIGHT
BEGIN:STANDARD
TZOFFSETFROM:-0500
TZOFFSETTO:-0600
TZNAME:CST
DTSTART:20231105T070000
END:STANDARD
BEGIN:DAYLIGHT
TZOFFSETFROM:-0600
TZOFFSETTO:-0500
TZNAME:CDT
DTSTART:20240310T080000
END:DAYLIGHT
BEGIN:STANDARD
TZOFFSETFROM:-0500
TZOFFSETTO:-0600
TZNAME:CST
DTSTART:20241103T070000
END:STANDARD
BEGIN:DAYLIGHT
TZOFFSETFROM:-0600
TZOFFSETTO:-0500
TZNAME:CDT
DTSTART:20250309T080000
END:DAYLIGHT
BEGIN:STANDARD
TZOFFSETFROM:-0500
TZOFFSETTO:-0600
TZNAME:CST
DTSTART:20251102T070000
END:STANDARD
END:VTIMEZONE
BEGIN:VEVENT
DTSTART;VALUE=DATE:20240701
DTEND;VALUE=DATE:20240702
DTSTAMP:20260423T003525
CREATED:20240508T171014Z
LAST-MODIFIED:20250125T183600Z
UID:882-1719792000-1719878399@www.snowcreekskipatrol.com
SUMMARY:Outdoor Emergency Care Signup Deadline for 2024
DESCRIPTION:Notice: JavaScript is required for this content.
URL:https://www.snowcreekskipatrol.com/event/outdoor-emergency-care-signup-deadline-for-2024/
LOCATION:MO
CATEGORIES:Candidate Calendar,Main Calendar
ATTACH;FMTTYPE=image/jpeg:https://www.snowcreekskipatrol.com/wp-content/uploads/2024/11/White-Cross.jpg
END:VEVENT
END:VCALENDAR